BEGIN:VCALENDAR
VERSION:2.0
PRODID:-//jEvents 2.0 for Joomla//EN
CALSCALE:GREGORIAN
METHOD:PUBLISH
BEGIN:VTIMEZONE
TZID:Europe/Berlin
BEGIN:STANDARD
DTSTART:20211202T000000
RDATE:20220327T030000
TZOFFSETFROM:+0200
TZOFFSETTO:+0100
TZNAME:Europe/Berlin CET
END:STANDARD
BEGIN:STANDARD
DTSTART:20221030T020000
RDATE:20230326T030000
TZOFFSETFROM:+0200
TZOFFSETTO:+0100
TZNAME:Europe/Berlin CET
END:STANDARD
BEGIN:DAYLIGHT
DTSTART:20220327T030000
RDATE:20221030T020000
TZOFFSETFROM:+0100
TZOFFSETTO:+0200
TZNAME:Europe/Berlin CEST
END:DAYLIGHT
END:VTIMEZONE
BEGIN:VEVENT
UID:20f5b45d792213334b51e6f901aced5a
CATEGORIES:Prüfungswesen
CREATED:20220909T191538
SUMMARY:Danvorbereitungslehrgang Bad Homburg
LOCATION:Homburger Turngemeinde 1846 e.V. Niederstedter Weg 2\, 61348  Bad Homburg 
DESCRIPTION;ENCODING=QUOTED-PRINTABLE:\n\nDanvorbereitungslehrgang Bad Homburg\n\n\n(je nach Bedarf 1. Dan bis 5.
  Dan – 5. Dan auf Anfage)\n\n\nZeit: 9:00 Uhr&nbsp;Dauer abhängig von Anzah
 l Interessenten&nbsp;\n\n\nMeldeschluss verlängert bis 25.11.2022\n\n\n&nbs
 p;\n
CONTACT:Ralf Bierbaum, Sven Wagner
DTSTAMP:20260421T144442Z
DTSTART;TZID=Europe/Berlin;VALUE=DATE:20221203
DTEND;TZID=Europe/Berlin;VALUE=DATE:20221204
SEQUENCE:0
TRANSP:OPAQUE
END:VEVENT
END:VCALENDAR