BEGIN:VCALENDAR
VERSION:2.0
PRODID:-//jEvents 2.0 for Joomla//EN
CALSCALE:GREGORIAN
METHOD:PUBLISH
BEGIN:VTIMEZONE
TZID:Europe/Berlin
BEGIN:STANDARD
DTSTART:20211031T020000
RDATE:20220327T030000
TZOFFSETFROM:+0200
TZOFFSETTO:+0100
TZNAME:Europe/Berlin CET
END:STANDARD
BEGIN:STANDARD
DTSTART:20221030T020000
RDATE:20230326T030000
TZOFFSETFROM:+0200
TZOFFSETTO:+0100
TZNAME:Europe/Berlin CET
END:STANDARD
BEGIN:DAYLIGHT
DTSTART:20211022T000000
RDATE:20211031T020000
TZOFFSETFROM:+0100
TZOFFSETTO:+0200
TZNAME:Europe/Berlin CEST
END:DAYLIGHT
BEGIN:DAYLIGHT
DTSTART:20220327T030000
RDATE:20221030T020000
TZOFFSETFROM:+0100
TZOFFSETTO:+0200
TZNAME:Europe/Berlin CEST
END:DAYLIGHT
END:VTIMEZONE
BEGIN:VEVENT
UID:05798e8fdffa474c6cab75bf8b49fc4e
CATEGORIES:Prüfungswesen
CREATED:20220909T180753
SUMMARY:Dezentraler Dan-Vorbereitungslehrgang in Wettenberg
LOCATION:Mehrzweckhalle neben der Eduard-David Sporthalle; 35435 Wettenberg/Krofdorf
 - Gleiberg Turnhallenstr
DESCRIPTION;ENCODING=QUOTED-PRINTABLE:\n\nDezentraler Dan-Vorbereitungslehrgang in Wettenberg\n\n\n23. Oktober: f
 reie Themenwahl/Theorie/Kata\n\n\nZeit: 10:00 - 14:00 Uhr\n
CONTACT:Wolfgang Geissler
DTSTAMP:20260419T221938Z
DTSTART;TZID=Europe/Berlin;VALUE=DATE:20221023
DTEND;TZID=Europe/Berlin;VALUE=DATE:20221024
SEQUENCE:0
TRANSP:OPAQUE
END:VEVENT
END:VCALENDAR