BEGIN:VCALENDAR
VERSION:2.0
PRODID:-//jEvents 2.0 for Joomla//EN
CALSCALE:GREGORIAN
METHOD:PUBLISH
BEGIN:VTIMEZONE
TZID:Europe/Berlin
BEGIN:STANDARD
DTSTART:20211031T020000
RDATE:20220327T030000
TZOFFSETFROM:+0200
TZOFFSETTO:+0100
TZNAME:Europe/Berlin CET
END:STANDARD
BEGIN:STANDARD
DTSTART:20221030T020000
RDATE:20230326T030000
TZOFFSETFROM:+0200
TZOFFSETTO:+0100
TZNAME:Europe/Berlin CET
END:STANDARD
BEGIN:DAYLIGHT
DTSTART:20211029T000000
RDATE:20211031T020000
TZOFFSETFROM:+0100
TZOFFSETTO:+0200
TZNAME:Europe/Berlin CEST
END:DAYLIGHT
BEGIN:DAYLIGHT
DTSTART:20220327T030000
RDATE:20221030T020000
TZOFFSETFROM:+0100
TZOFFSETTO:+0200
TZNAME:Europe/Berlin CEST
END:DAYLIGHT
END:VTIMEZONE
BEGIN:VEVENT
UID:5b8688658cfbd47050157b6f2c2c56bd
CATEGORIES:Prüfungswesen
CREATED:20220909T175339
SUMMARY:Dezentraler Dan-Vorbereitungslehrgang Bad Vilbel
LOCATION:Sporthalle am Siegesbaum (im blauen Saal) Willy Brandt Straße 1 61118 Bad V
 ilbel
DESCRIPTION;ENCODING=QUOTED-PRINTABLE:<p>Dezentrale Dan-Vorbereitungslehrgänge</p><p>Boden- Stand- Anwendungsaufg
 aben (Theorie und Praxis)</p><p>Zeit: 11:00 - 15:00 Uhr</p>
CONTACT:Eduard Van Thurenhout
DTSTAMP:20260419T223140Z
DTSTART;TZID=Europe/Berlin;VALUE=DATE:20221030
DTEND;TZID=Europe/Berlin;VALUE=DATE:20221031
SEQUENCE:0
TRANSP:OPAQUE
END:VEVENT
END:VCALENDAR