BEGIN:VCALENDAR
VERSION:2.0
PRODID:-//jEvents 2.0 for Joomla//EN
CALSCALE:GREGORIAN
METHOD:PUBLISH
BEGIN:VTIMEZONE
TZID:Europe/Berlin
BEGIN:STANDARD
DTSTART:20211031T020000
RDATE:20220327T030000
TZOFFSETFROM:+0200
TZOFFSETTO:+0100
TZNAME:Europe/Berlin CET
END:STANDARD
BEGIN:STANDARD
DTSTART:20221030T020000
RDATE:20230326T030000
TZOFFSETFROM:+0200
TZOFFSETTO:+0100
TZNAME:Europe/Berlin CET
END:STANDARD
BEGIN:DAYLIGHT
DTSTART:20211014T000000
RDATE:20211031T020000
TZOFFSETFROM:+0100
TZOFFSETTO:+0200
TZNAME:Europe/Berlin CEST
END:DAYLIGHT
BEGIN:DAYLIGHT
DTSTART:20220327T030000
RDATE:20221030T020000
TZOFFSETFROM:+0100
TZOFFSETTO:+0200
TZNAME:Europe/Berlin CEST
END:DAYLIGHT
END:VTIMEZONE
BEGIN:VEVENT
UID:e8c9a9e6aa351e0945f11b3140bdf546
CATEGORIES:Ausbildungswesen
CREATED:20220909T171529
SUMMARY:Modulare Ausbildung zur Trainer C Lizenz (Leistungssport)
LOCATION:Otto Schmelzeisen Dojo; Konrad Adenauer Ring 55; 65187 Wiesbaden
DESCRIPTION;ENCODING=QUOTED-PRINTABLE:<p>Modulare Ausbildung zur Trainer C Lizenz (Leistungssport)</p><p>Modul 1:
  Handlungsfeld "Planen und Analysieren"</p>
CONTACT:Markus Günterberg
DTSTAMP:20260419T222117Z
DTSTART;TZID=Europe/Berlin;VALUE=DATE:20221015
DTEND;TZID=Europe/Berlin;VALUE=DATE:20221017
SEQUENCE:0
TRANSP:OPAQUE
END:VEVENT
END:VCALENDAR