BEGIN:VCALENDAR
VERSION:2.0
PRODID:-//jEvents 2.0 for Joomla//EN
CALSCALE:GREGORIAN
METHOD:PUBLISH
BEGIN:VTIMEZONE
TZID:Europe/Berlin
BEGIN:STANDARD
DTSTART:20211031T020000
RDATE:20220327T030000
TZOFFSETFROM:+0200
TZOFFSETTO:+0100
TZNAME:Europe/Berlin CET
END:STANDARD
BEGIN:STANDARD
DTSTART:20221030T020000
RDATE:20230326T030000
TZOFFSETFROM:+0200
TZOFFSETTO:+0100
TZNAME:Europe/Berlin CET
END:STANDARD
BEGIN:DAYLIGHT
DTSTART:20210902T000000
RDATE:20211031T020000
TZOFFSETFROM:+0100
TZOFFSETTO:+0200
TZNAME:Europe/Berlin CEST
END:DAYLIGHT
BEGIN:DAYLIGHT
DTSTART:20220327T030000
RDATE:20221030T020000
TZOFFSETFROM:+0100
TZOFFSETTO:+0200
TZNAME:Europe/Berlin CEST
END:DAYLIGHT
END:VTIMEZONE
BEGIN:VEVENT
UID:e5ee2c4927e4f39bac684255c8397bb7
CATEGORIES:Kata
CREATED:20220812T202226
SUMMARY:Juno Kata Lehrgang
LOCATION:Sporthalle „Am Siegesbaum“  Willi Brandt Str. 1; 61118 Bad Vilbel OT Dortel
 weil
DESCRIPTION;ENCODING=QUOTED-PRINTABLE:<p>Juno Kata Lehrgang&nbsp;</p>
CONTACT:Werner Müller
DTSTAMP:20260421T190118Z
DTSTART;TZID=Europe/Berlin;VALUE=DATE:20220903
DTEND;TZID=Europe/Berlin;VALUE=DATE:20220904
SEQUENCE:0
TRANSP:OPAQUE
END:VEVENT
END:VCALENDAR