BEGIN:VCALENDAR
VERSION:2.0
PRODID:-//jEvents 2.0 for Joomla//EN
CALSCALE:GREGORIAN
METHOD:PUBLISH
BEGIN:VTIMEZONE
TZID:Europe/Berlin
BEGIN:STANDARD
DTSTART:20211209T000000
RDATE:20220327T030000
TZOFFSETFROM:+0200
TZOFFSETTO:+0100
TZNAME:Europe/Berlin CET
END:STANDARD
BEGIN:STANDARD
DTSTART:20221030T020000
RDATE:20230326T030000
TZOFFSETFROM:+0200
TZOFFSETTO:+0100
TZNAME:Europe/Berlin CET
END:STANDARD
BEGIN:DAYLIGHT
DTSTART:20220327T030000
RDATE:20221030T020000
TZOFFSETFROM:+0100
TZOFFSETTO:+0200
TZNAME:Europe/Berlin CEST
END:DAYLIGHT
END:VTIMEZONE
BEGIN:VEVENT
UID:f1248d8520c7a93aaaee77f50d935f83
CATEGORIES:Männer, MU21, Frauen, FU21
CREATED:20220711T142555
SUMMARY:Jahresabschlusslehrgang U21/MF
LOCATION:Dojo der HTG Bad Homburg\, Niederstedter Weg 2\, 61348 Bad Homburg 2
DESCRIPTION;ENCODING=QUOTED-PRINTABLE:<p>Landesrandori M/F und U21,&nbsp;Dojo HTG Bad Homburg</p><p>Zielgruppe: a
 lle Judoka ab Jahrgang 2005 und älter</p><p>Zeitplan:</p><p>14:00 - 16:00, 
 1 Trainingseinheit</p><p>16:15 - 17:00 Vorstellung Jahresplanung 2023, ggf.
  Kader 2023</p><p>17:00 - 18:45 2. Trainingseinheit</p><p>&nbsp;</p><p>&nbs
 p;</p>
CONTACT:Sportwarte
DTSTAMP:20260419T195054Z
DTSTART;TZID=Europe/Berlin;VALUE=DATE:20221210
DTEND;TZID=Europe/Berlin;VALUE=DATE:20221211
SEQUENCE:0
TRANSP:OPAQUE
END:VEVENT
END:VCALENDAR