BEGIN:VCALENDAR
VERSION:2.0
PRODID:-//jEvents 2.0 for Joomla//EN
CALSCALE:GREGORIAN
METHOD:PUBLISH
BEGIN:VTIMEZONE
TZID:Europe/Berlin
BEGIN:STANDARD
DTSTART:20211031T020000
RDATE:20220327T030000
TZOFFSETFROM:+0200
TZOFFSETTO:+0100
TZNAME:Europe/Berlin CET
END:STANDARD
BEGIN:STANDARD
DTSTART:20221030T020000
RDATE:20230326T030000
TZOFFSETFROM:+0200
TZOFFSETTO:+0100
TZNAME:Europe/Berlin CET
END:STANDARD
BEGIN:DAYLIGHT
DTSTART:20210916T000000
RDATE:20211031T020000
TZOFFSETFROM:+0100
TZOFFSETTO:+0200
TZNAME:Europe/Berlin CEST
END:DAYLIGHT
BEGIN:DAYLIGHT
DTSTART:20220327T030000
RDATE:20221030T020000
TZOFFSETFROM:+0100
TZOFFSETTO:+0200
TZNAME:Europe/Berlin CEST
END:DAYLIGHT
END:VTIMEZONE
BEGIN:VEVENT
UID:e31342ee7107e5ec7fc43f61f54286b7
CATEGORIES:Wettkampfsport
CREATED:20220614T192534
SUMMARY:Landesliga 2022
LOCATION:Jahnturnhalle\, Jahnstr. 8\, 65824 Schwalbach
DESCRIPTION;ENCODING=QUOTED-PRINTABLE:<p>Landesliga&nbsp;Jahnturnhalle, Jahnstr. 8, 65824 Schwalbach<br /><br /><
 /p><p>Waage: von 15:00h bis 15:30h - Anschl. Kampfbeginn</p>
CONTACT:Ralf Bacher
DTSTAMP:20260419T234802Z
DTSTART;TZID=Europe/Berlin;VALUE=DATE:20220917
DTEND;TZID=Europe/Berlin;VALUE=DATE:20220918
SEQUENCE:0
TRANSP:OPAQUE
END:VEVENT
END:VCALENDAR