BEGIN:VCALENDAR
VERSION:2.0
PRODID:-//jEvents 2.0 for Joomla//EN
CALSCALE:GREGORIAN
METHOD:PUBLISH
BEGIN:VTIMEZONE
TZID:Europe/Berlin
BEGIN:STANDARD
DTSTART:20211031T020000
RDATE:20220327T030000
TZOFFSETFROM:+0200
TZOFFSETTO:+0100
TZNAME:Europe/Berlin CET
END:STANDARD
BEGIN:STANDARD
DTSTART:20221030T020000
RDATE:20230326T030000
TZOFFSETFROM:+0200
TZOFFSETTO:+0100
TZNAME:Europe/Berlin CET
END:STANDARD
BEGIN:DAYLIGHT
DTSTART:20210715T000000
RDATE:20211031T020000
TZOFFSETFROM:+0100
TZOFFSETTO:+0200
TZNAME:Europe/Berlin CEST
END:DAYLIGHT
BEGIN:DAYLIGHT
DTSTART:20220327T030000
RDATE:20221030T020000
TZOFFSETFROM:+0100
TZOFFSETTO:+0200
TZNAME:Europe/Berlin CEST
END:DAYLIGHT
END:VTIMEZONE
BEGIN:VEVENT
UID:a9fa7930438d7f3f812638e4e729bc74
CATEGORIES:Wettkampfsport, MU18, MU21, FU18, FU21
CREATED:20220526T144324
SUMMARY:HEM der Frauen und Männer U18 und U21 
LOCATION:Sporthalle am 2. Ring\, Konrad-Adenauer-Ring 55\, 65187 Wiesbaden
DESCRIPTION;ENCODING=QUOTED-PRINTABLE:\n\nU18 am Samstag, den 16. Juli 2022\n\n\nU21 am Sonntag, den 17. Juli 202
 2\n
CONTACT:Sportwarte U18/U21
DTSTAMP:20260423T135605Z
DTSTART;TZID=Europe/Berlin;VALUE=DATE:20220716
DTEND;TZID=Europe/Berlin;VALUE=DATE:20220718
SEQUENCE:0
TRANSP:OPAQUE
END:VEVENT
END:VCALENDAR