BEGIN:VCALENDAR
VERSION:2.0
PRODID:-//jEvents 2.0 for Joomla//EN
CALSCALE:GREGORIAN
METHOD:PUBLISH
BEGIN:VTIMEZONE
TZID:Europe/Berlin
BEGIN:STANDARD
DTSTART:20211031T020000
RDATE:20220327T030000
TZOFFSETFROM:+0200
TZOFFSETTO:+0100
TZNAME:Europe/Berlin CET
END:STANDARD
BEGIN:STANDARD
DTSTART:20221030T020000
RDATE:20230326T030000
TZOFFSETFROM:+0200
TZOFFSETTO:+0100
TZNAME:Europe/Berlin CET
END:STANDARD
BEGIN:DAYLIGHT
DTSTART:20210731T000000
RDATE:20211031T020000
TZOFFSETFROM:+0100
TZOFFSETTO:+0200
TZNAME:Europe/Berlin CEST
END:DAYLIGHT
BEGIN:DAYLIGHT
DTSTART:20220327T030000
RDATE:20221030T020000
TZOFFSETFROM:+0100
TZOFFSETTO:+0200
TZNAME:Europe/Berlin CEST
END:DAYLIGHT
END:VTIMEZONE
BEGIN:VEVENT
UID:098b28201c56e061b9a8ea0c8b198a86
CATEGORIES:Ausbildungswesen
CREATED:20220317T131125
SUMMARY:Ausschreibung zur Junior Sportassistenten - Ausbildung
LOCATION:Jugendzentrum Ronneburg | Auf dem Weißen Berg | 63549 Ronneburg
DESCRIPTION;ENCODING=QUOTED-PRINTABLE:<p>Dauer der Ausbildung: Montag bis Freitag<br />Anreise: Montag ab 11.00 U
 hr<br />Abreise: Freitag ab 12.00 Uhr</p>
CONTACT:Markus Günterberg/Rainer Dötsch / Willi Moritz
X-EXTRAINFO:Zielgruppe - jugendliche Judoka von 13 - 18 Jahren
DTSTAMP:20260423T152738Z
DTSTART;TZID=Europe/Berlin;VALUE=DATE:20220801
DTEND;TZID=Europe/Berlin;VALUE=DATE:20220806
SEQUENCE:0
TRANSP:OPAQUE
END:VEVENT
END:VCALENDAR