BEGIN:VCALENDAR
VERSION:2.0
PRODID:-//jEvents 2.0 for Joomla//EN
CALSCALE:GREGORIAN
METHOD:PUBLISH
BEGIN:VTIMEZONE
TZID:Europe/Berlin
BEGIN:STANDARD
DTSTART:20211031T020000
RDATE:20220327T030000
TZOFFSETFROM:+0200
TZOFFSETTO:+0100
TZNAME:Europe/Berlin CET
END:STANDARD
BEGIN:STANDARD
DTSTART:20221030T020000
RDATE:20230326T030000
TZOFFSETFROM:+0200
TZOFFSETTO:+0100
TZNAME:Europe/Berlin CET
END:STANDARD
BEGIN:DAYLIGHT
DTSTART:20210527T000000
RDATE:20211031T020000
TZOFFSETFROM:+0100
TZOFFSETTO:+0200
TZNAME:Europe/Berlin CEST
END:DAYLIGHT
BEGIN:DAYLIGHT
DTSTART:20220327T030000
RDATE:20221030T020000
TZOFFSETFROM:+0100
TZOFFSETTO:+0200
TZNAME:Europe/Berlin CEST
END:DAYLIGHT
END:VTIMEZONE
BEGIN:VEVENT
UID:3f9883d7776b62fa51e5b9fc5945ab00
CATEGORIES:Kata
CREATED:20220314T133309
SUMMARY:Deutsche Kata Meisterschaften 
LOCATION:Hamburg
DESCRIPTION;ENCODING=QUOTED-PRINTABLE:\n\nDie Deutschen Kata-Meisterschaften finden am 28. und 29. Mai in Hamburg
  statt. Die Ausschreibung und alle weiteren Formulare sind nun online.\n
DTSTAMP:20260426T052529Z
DTSTART;TZID=Europe/Berlin;VALUE=DATE:20220528
DTEND;TZID=Europe/Berlin;VALUE=DATE:20220530
SEQUENCE:0
TRANSP:OPAQUE
END:VEVENT
END:VCALENDAR