BEGIN:VCALENDAR
VERSION:2.0
PRODID:-//jEvents 2.0 for Joomla//EN
CALSCALE:GREGORIAN
METHOD:PUBLISH
BEGIN:VTIMEZONE
TZID:Europe/Berlin
BEGIN:STANDARD
DTSTART:20211031T020000
RDATE:20220327T030000
TZOFFSETFROM:+0200
TZOFFSETTO:+0100
TZNAME:Europe/Berlin CET
END:STANDARD
BEGIN:STANDARD
DTSTART:20221030T020000
RDATE:20230326T030000
TZOFFSETFROM:+0200
TZOFFSETTO:+0100
TZNAME:Europe/Berlin CET
END:STANDARD
BEGIN:DAYLIGHT
DTSTART:20210610T000000
RDATE:20211031T020000
TZOFFSETFROM:+0100
TZOFFSETTO:+0200
TZNAME:Europe/Berlin CEST
END:DAYLIGHT
BEGIN:DAYLIGHT
DTSTART:20220327T030000
RDATE:20221030T020000
TZOFFSETFROM:+0100
TZOFFSETTO:+0200
TZNAME:Europe/Berlin CEST
END:DAYLIGHT
END:VTIMEZONE
BEGIN:VEVENT
UID:dbbbf093d356c51e0e48231e869e3ed6
CATEGORIES:Prüfungswesen
CREATED:20220307T173744
SUMMARY:Danvorbereitungslehrgang 
LOCATION:Gymnastikhalle der Blista Marburg; Am Schlag 12; 35037 Marburg
DESCRIPTION;ENCODING=QUOTED-PRINTABLE:<p>Danvorbereitungslehrgang&nbsp;</p><p>Modul 2:&nbsp; Stand Vorkenntnisse 
 / Wurftechniken / Anwendungsaufgabe Stand / Kata</p>
CONTACT:Christian Rhode
DTSTAMP:20260426T042656Z
DTSTART;TZID=Europe/Berlin;VALUE=DATE:20220611
DTEND;TZID=Europe/Berlin;VALUE=DATE:20220612
SEQUENCE:0
TRANSP:OPAQUE
END:VEVENT
END:VCALENDAR