BEGIN:VCALENDAR
VERSION:2.0
PRODID:-//jEvents 2.0 for Joomla//EN
CALSCALE:GREGORIAN
METHOD:PUBLISH
BEGIN:VTIMEZONE
TZID:Europe/Berlin
BEGIN:STANDARD
DTSTART:20211031T020000
RDATE:20220327T030000
TZOFFSETFROM:+0200
TZOFFSETTO:+0100
TZNAME:Europe/Berlin CET
END:STANDARD
BEGIN:STANDARD
DTSTART:20221030T020000
RDATE:20230326T030000
TZOFFSETFROM:+0200
TZOFFSETTO:+0100
TZNAME:Europe/Berlin CET
END:STANDARD
BEGIN:DAYLIGHT
DTSTART:20210611T000000
RDATE:20211031T020000
TZOFFSETFROM:+0100
TZOFFSETTO:+0200
TZNAME:Europe/Berlin CEST
END:DAYLIGHT
BEGIN:DAYLIGHT
DTSTART:20220327T030000
RDATE:20221030T020000
TZOFFSETFROM:+0100
TZOFFSETTO:+0200
TZNAME:Europe/Berlin CEST
END:DAYLIGHT
END:VTIMEZONE
BEGIN:VEVENT
UID:6c8f06d261f6c84b4898e0367b89815f
CATEGORIES:Prüfungswesen
CREATED:20220224T200434
SUMMARY:Danvorbereitungslehrgang
LOCATION:Schulturnhalle 35516 Münzenberg / Gambach\, Schulstraße 11
DESCRIPTION;ENCODING=QUOTED-PRINTABLE:<p>Danvorbereitungslehrgang in Gambach Modul 1</p>
CONTACT:Burkhard Hubner und Wolfgang Geissler
DTSTAMP:20260426T042636Z
DTSTART;TZID=Europe/Berlin;VALUE=DATE:20220612
DTEND;TZID=Europe/Berlin;VALUE=DATE:20220613
SEQUENCE:0
TRANSP:OPAQUE
END:VEVENT
END:VCALENDAR