BEGIN:VCALENDAR
VERSION:2.0
PRODID:-//jEvents 2.0 for Joomla//EN
CALSCALE:GREGORIAN
METHOD:PUBLISH
BEGIN:VTIMEZONE
TZID:Europe/Berlin
BEGIN:STANDARD
DTSTART:20211031T020000
RDATE:20220327T030000
TZOFFSETFROM:+0200
TZOFFSETTO:+0100
TZNAME:Europe/Berlin CET
END:STANDARD
BEGIN:STANDARD
DTSTART:20221030T020000
RDATE:20230326T030000
TZOFFSETFROM:+0200
TZOFFSETTO:+0100
TZNAME:Europe/Berlin CET
END:STANDARD
BEGIN:DAYLIGHT
DTSTART:20210902T000000
RDATE:20211031T020000
TZOFFSETFROM:+0100
TZOFFSETTO:+0200
TZNAME:Europe/Berlin CEST
END:DAYLIGHT
BEGIN:DAYLIGHT
DTSTART:20220327T030000
RDATE:20221030T020000
TZOFFSETFROM:+0100
TZOFFSETTO:+0200
TZNAME:Europe/Berlin CEST
END:DAYLIGHT
END:VTIMEZONE
BEGIN:VEVENT
UID:2a8d86933ef0124ce74530421e4354f7
CATEGORIES:Prüfungswesen
CREATED:20220224T194749
SUMMARY:Bodentechniken Teil 1
LOCATION:Silberbachhalle\, Am Marktplatz\, 65232 Taunusstein
DESCRIPTION;ENCODING=QUOTED-PRINTABLE:<p>Bodentechniken Teil 1</p>
CONTACT:Matthias Birk
DTSTAMP:20260419T234801Z
DTSTART;TZID=Europe/Berlin;VALUE=DATE:20220903
DTEND;TZID=Europe/Berlin;VALUE=DATE:20220904
SEQUENCE:0
TRANSP:OPAQUE
END:VEVENT
END:VCALENDAR