BEGIN:VCALENDAR
VERSION:2.0
PRODID:-//jEvents 2.0 for Joomla//EN
CALSCALE:GREGORIAN
METHOD:PUBLISH
BEGIN:VTIMEZONE
TZID:Europe/Berlin
BEGIN:STANDARD
DTSTART:20180118T000000
RDATE:20180325T030000
TZOFFSETFROM:+0200
TZOFFSETTO:+0100
TZNAME:Europe/Berlin CET
END:STANDARD
BEGIN:STANDARD
DTSTART:20181028T020000
RDATE:20190331T030000
TZOFFSETFROM:+0200
TZOFFSETTO:+0100
TZNAME:Europe/Berlin CET
END:STANDARD
BEGIN:STANDARD
DTSTART:20191027T020000
RDATE:20200329T030000
TZOFFSETFROM:+0200
TZOFFSETTO:+0100
TZNAME:Europe/Berlin CET
END:STANDARD
BEGIN:STANDARD
DTSTART:20201025T020000
RDATE:20210328T030000
TZOFFSETFROM:+0200
TZOFFSETTO:+0100
TZNAME:Europe/Berlin CET
END:STANDARD
BEGIN:STANDARD
DTSTART:20211031T020000
RDATE:20220327T030000
TZOFFSETFROM:+0200
TZOFFSETTO:+0100
TZNAME:Europe/Berlin CET
END:STANDARD
BEGIN:STANDARD
DTSTART:20221030T020000
RDATE:20230326T030000
TZOFFSETFROM:+0200
TZOFFSETTO:+0100
TZNAME:Europe/Berlin CET
END:STANDARD
BEGIN:DAYLIGHT
DTSTART:20180325T030000
RDATE:20181028T020000
TZOFFSETFROM:+0100
TZOFFSETTO:+0200
TZNAME:Europe/Berlin CEST
END:DAYLIGHT
BEGIN:DAYLIGHT
DTSTART:20190331T030000
RDATE:20191027T020000
TZOFFSETFROM:+0100
TZOFFSETTO:+0200
TZNAME:Europe/Berlin CEST
END:DAYLIGHT
BEGIN:DAYLIGHT
DTSTART:20200329T030000
RDATE:20201025T020000
TZOFFSETFROM:+0100
TZOFFSETTO:+0200
TZNAME:Europe/Berlin CEST
END:DAYLIGHT
BEGIN:DAYLIGHT
DTSTART:20210328T030000
RDATE:20211031T020000
TZOFFSETFROM:+0100
TZOFFSETTO:+0200
TZNAME:Europe/Berlin CEST
END:DAYLIGHT
BEGIN:DAYLIGHT
DTSTART:20220327T030000
RDATE:20221030T020000
TZOFFSETFROM:+0100
TZOFFSETTO:+0200
TZNAME:Europe/Berlin CEST
END:DAYLIGHT
END:VTIMEZONE
BEGIN:VEVENT
UID:8b155837b830d4127ff7a4006e66546a
CATEGORIES:Lehrgänge
CREATED:20181214T105857
SUMMARY:14. Frankfurter Judo-Wochenende
LOCATION:Ravenstein-Zentrum\, Pfingstweidstr. 7\, 60316 Frankfurt am Main
DESCRIPTION;ENCODING=QUOTED-PRINTABLE:\n\nJudo Lehrgang mit Ulrich Klocke und Wolfgang Biedron.\n\n\nSamstag, 19.
  Januar 2019, 9:30 – 18:00 Uhr: Judo-Technik\nSonntag, 20. Januar 2019, 9:0
 0 – 12:30 Uhr: Judo-Methodik\n\n\nKosten:\nSamstag: \nErwachsene je EUR 50,
 00 \n Jugendliche je EUR 35,00 \nSonntag: EUR 25,00 \nbeide Tage zusammen j
 e EUR 70,00 \nDas Mittagessen ist in der Teilnahmegebühr bereits enthalten.
 \n
CONTACT:Diese E-Mail-Adresse ist vor Spambots geschützt! Zur Anzeige muss JavaScript eingeschaltet sein!
				document.getElementById('cloak3795f4490c70ff42dac153ad0e47b9b9').innerHTML = '';
				var prefix = '&#109;a' + 'i&#108;' + '&#116;o';
				var path = 'hr' + 'ef' + '=';
				var addy3795f4490c70ff42dac153ad0e47b9b9 = 'j&#117;d&#111;' + '&#64;';
				addy3795f4490c70ff42dac153ad0e47b9b9 = addy3795f4490c70ff42dac153ad0e47b9b9 + 'ftv1860' + '&#46;' + 'd&#101;';
				var addy_text3795f4490c70ff42dac153ad0e47b9b9 = 'j&#117;d&#111;' + '&#64;' + 'ftv1860' + '&#46;' + 'd&#101;';document.getElementById('cloak3795f4490c70ff42dac153ad0e47b9b9').innerHTML += ''+addy_text3795f4490c70ff42dac153ad0e47b9b9+'';
		 
DTSTAMP:20260425T194315Z
DTSTART;TZID=Europe/Berlin;VALUE=DATE:20190119
DTEND;TZID=Europe/Berlin;VALUE=DATE:20190121
SEQUENCE:0
TRANSP:OPAQUE
END:VEVENT
END:VCALENDAR