BEGIN:VCALENDAR
VERSION:2.0
PRODID:-//jEvents 2.0 for Joomla//EN
CALSCALE:GREGORIAN
METHOD:PUBLISH
BEGIN:VTIMEZONE
TZID:Europe/Berlin
BEGIN:STANDARD
DTSTART:20180208T093000
RDATE:20180325T030000
TZOFFSETFROM:+0200
TZOFFSETTO:+0100
TZNAME:Europe/Berlin CET
END:STANDARD
BEGIN:STANDARD
DTSTART:20181028T020000
RDATE:20190331T030000
TZOFFSETFROM:+0200
TZOFFSETTO:+0100
TZNAME:Europe/Berlin CET
END:STANDARD
BEGIN:STANDARD
DTSTART:20191027T020000
RDATE:20200329T030000
TZOFFSETFROM:+0200
TZOFFSETTO:+0100
TZNAME:Europe/Berlin CET
END:STANDARD
BEGIN:STANDARD
DTSTART:20201025T020000
RDATE:20210328T030000
TZOFFSETFROM:+0200
TZOFFSETTO:+0100
TZNAME:Europe/Berlin CET
END:STANDARD
BEGIN:STANDARD
DTSTART:20211031T020000
RDATE:20220327T030000
TZOFFSETFROM:+0200
TZOFFSETTO:+0100
TZNAME:Europe/Berlin CET
END:STANDARD
BEGIN:STANDARD
DTSTART:20221030T020000
RDATE:20230326T030000
TZOFFSETFROM:+0200
TZOFFSETTO:+0100
TZNAME:Europe/Berlin CET
END:STANDARD
BEGIN:DAYLIGHT
DTSTART:20180325T030000
RDATE:20181028T020000
TZOFFSETFROM:+0100
TZOFFSETTO:+0200
TZNAME:Europe/Berlin CEST
END:DAYLIGHT
BEGIN:DAYLIGHT
DTSTART:20190331T030000
RDATE:20191027T020000
TZOFFSETFROM:+0100
TZOFFSETTO:+0200
TZNAME:Europe/Berlin CEST
END:DAYLIGHT
BEGIN:DAYLIGHT
DTSTART:20200329T030000
RDATE:20201025T020000
TZOFFSETFROM:+0100
TZOFFSETTO:+0200
TZNAME:Europe/Berlin CEST
END:DAYLIGHT
BEGIN:DAYLIGHT
DTSTART:20210328T030000
RDATE:20211031T020000
TZOFFSETFROM:+0100
TZOFFSETTO:+0200
TZNAME:Europe/Berlin CEST
END:DAYLIGHT
BEGIN:DAYLIGHT
DTSTART:20220327T030000
RDATE:20221030T020000
TZOFFSETFROM:+0100
TZOFFSETTO:+0200
TZNAME:Europe/Berlin CEST
END:DAYLIGHT
END:VTIMEZONE
BEGIN:VEVENT
UID:f5a8e183a922cae49504e79ddf4d34f3
CATEGORIES:Wettkampfsport, Sonstige, Kampfrichterwesen, Lehrgänge, Organisation und Verwaltung
CREATED:20180902T105944
SUMMARY:Kampfrichter-Fortbildungslehrgang | Wettkampfregeln 2019 | Schulung für Vereine, Coaches & Athleten
LOCATION:Niederstedter Weg 2\, 61348 Bad Homburg
DESCRIPTION;ENCODING=QUOTED-PRINTABLE:<p><strong>Fortbildungslehrgang der HJV-Kampfrichter incl. Schulung für Ver
 eine, Coaches &amp; Athleten</strong></p><p>am 09.02.2019 von 09.30 bis 18.
 30 Uhr</p><p>Niederstedter Weg 2, 61348 Bad Homburg</p><p>&nbsp;</p><p><str
 ong>In der Zeit von 09:30 bis 11.45 Uhr sind auch wieder interessierte Athl
 etinnen, Athleten, Coaches herzlich zu einer gemeinsamen Session eingeladen
 ! Diese wird im Rahmen der Übungsleiter-Aus-/Fortbildung anerkannt!</strong
 ></p><p>&nbsp;</p><p>Landestrainer Dominik Riedel hat sein Kommen zugesagt.
 </p><p>&nbsp;</p><p>Die Ausschreibung findet Ihr anbei!</p><p>&nbsp;</p><p>
 Marcel Frost</p><p>Kampfrichterreferent</p><p>&nbsp;</p>
DTSTAMP:20260424T065701Z
DTSTART;TZID=Europe/Berlin:20190209T093000
DTEND;TZID=Europe/Berlin:20190209T183000
SEQUENCE:0
TRANSP:OPAQUE
END:VEVENT
END:VCALENDAR