BEGIN:VCALENDAR
VERSION:2.0
PRODID:-//jEvents 2.0 for Joomla//EN
CALSCALE:GREGORIAN
METHOD:PUBLISH
BEGIN:VTIMEZONE
TZID:Europe/Berlin
BEGIN:STANDARD
DTSTART:20171130T100000
RDATE:20180325T030000
TZOFFSETFROM:+0200
TZOFFSETTO:+0100
TZNAME:Europe/Berlin CET
END:STANDARD
BEGIN:STANDARD
DTSTART:20181028T020000
RDATE:20190331T030000
TZOFFSETFROM:+0200
TZOFFSETTO:+0100
TZNAME:Europe/Berlin CET
END:STANDARD
BEGIN:STANDARD
DTSTART:20191027T020000
RDATE:20200329T030000
TZOFFSETFROM:+0200
TZOFFSETTO:+0100
TZNAME:Europe/Berlin CET
END:STANDARD
BEGIN:STANDARD
DTSTART:20201025T020000
RDATE:20210328T030000
TZOFFSETFROM:+0200
TZOFFSETTO:+0100
TZNAME:Europe/Berlin CET
END:STANDARD
BEGIN:STANDARD
DTSTART:20211031T020000
RDATE:20220327T030000
TZOFFSETFROM:+0200
TZOFFSETTO:+0100
TZNAME:Europe/Berlin CET
END:STANDARD
BEGIN:STANDARD
DTSTART:20221030T020000
RDATE:20230326T030000
TZOFFSETFROM:+0200
TZOFFSETTO:+0100
TZNAME:Europe/Berlin CET
END:STANDARD
BEGIN:DAYLIGHT
DTSTART:20180325T030000
RDATE:20181028T020000
TZOFFSETFROM:+0100
TZOFFSETTO:+0200
TZNAME:Europe/Berlin CEST
END:DAYLIGHT
BEGIN:DAYLIGHT
DTSTART:20190331T030000
RDATE:20191027T020000
TZOFFSETFROM:+0100
TZOFFSETTO:+0200
TZNAME:Europe/Berlin CEST
END:DAYLIGHT
BEGIN:DAYLIGHT
DTSTART:20200329T030000
RDATE:20201025T020000
TZOFFSETFROM:+0100
TZOFFSETTO:+0200
TZNAME:Europe/Berlin CEST
END:DAYLIGHT
BEGIN:DAYLIGHT
DTSTART:20210328T030000
RDATE:20211031T020000
TZOFFSETFROM:+0100
TZOFFSETTO:+0200
TZNAME:Europe/Berlin CEST
END:DAYLIGHT
BEGIN:DAYLIGHT
DTSTART:20220327T030000
RDATE:20221030T020000
TZOFFSETFROM:+0100
TZOFFSETTO:+0200
TZNAME:Europe/Berlin CEST
END:DAYLIGHT
END:VTIMEZONE
BEGIN:VEVENT
UID:5d8c45d425172b3afdbb8a3459b1b9fb
CATEGORIES:Lehrgänge, Prüfungswesen
CREATED:20180112T170102
SUMMARY:KYU Prüferlizenzlehrgang in Bad Homburg
LOCATION:61348 Bad Homburg\, Niederstedter Weg 2\, FERI-Sportpark
DESCRIPTION;ENCODING=QUOTED-PRINTABLE:<p><strong>Lehrgang zum Erwerb oder Verlängerung von Kyu-Prüferlizenzen</st
 rong></p><p><strong>am 01.12.2018 in Bad Homburg</strong></p><p>Veranstalte
 r : Hessischer Judo-Verband e.V.</p><p>Ausrichter: HTG Bad Homburg e.V.</p>
 <p>Termin: Samstag, den 01.12.2018</p><p>Ort: 61348 Bad Homburg, Niedersate
 dter Weg 2, FERI-Sportpark</p><p>Zeitrahmen: Beginn des Lehrgangs von 10:00
  bis 15:00 Uhr</p><p>Teilnehmer: Judoka ab 18 Jahren mit vom DJB anerkannte
 n Dan-Grad, gültigem DJB Mitgliedsausweis (bitte mitbringen) und Mitglied e
 ines dem HJV angeschlossenen Vereins. Bitte auch Kyu-Prüflizenz und Prüfste
 mpel mitbringen.</p><p>Thema: Bundesdatenschutzgesetz, Prüfungsordnung, Prü
 fungsinhalte, Bewertungskriterien, Durchführung von Prüfungen, Technikteil,
  mit der Bitte um aktive Teilnahme. (Änderungen vorbehalten!)</p><p>Anmeldu
 ng: Die Anmeldung und Zahlung zum Lehrgang erfolgt ausschließlich über das 
 Veranstaltungsportal doo.net bis zum 25.11.2018 unter folgendem Link: <a hr
 ef="https://doo.net/veranstaltung/18309/buchung">https://doo.net/veranstalt
 ung/18309/buchung</a></p><p>Am Lehrgangstag bitte das doo-Ticket als Anmeld
 enachweis mitbringen.</p><p><strong>Eine Anmeldung ist zwingend erforderlic
 h, ansonsten ist eine Teilnahme nicht möglich.</strong></p><p>Es gilt die D
 atenschutzordnung des HJV vom 03.Juli 2016.</p><p>Kosten: Neuerwerb der Kyu
 -Prüferlizenz 30,00 Euro; Verlängerung der Kyu-Prüferlizenz 0,00 Euro.</p><
 p>Michaelo Walter</p><p>Referent für das Prüfungswesen</p><p>Hessischer Jud
 o-Verband e.V.</p><p>60528 Frankfurt a.M., Otto-Fleck-Schneise 4</p><p>Tele
 fon: 069 677 33 751</p><p>walter(at)hessenjudo.de</p><p>(dh)</p><p>&nbsp;</
 p><p>&nbsp;</p>
CONTACT:Michaelo Walter
DTSTAMP:20260421T115212Z
DTSTART;TZID=Europe/Berlin:20181201T100000
DTEND;TZID=Europe/Berlin:20181201T150000
SEQUENCE:0
TRANSP:OPAQUE
END:VEVENT
END:VCALENDAR