BEGIN:VCALENDAR
VERSION:2.0
PRODID:-//jEvents 2.0 for Joomla//EN
CALSCALE:GREGORIAN
METHOD:PUBLISH
BEGIN:VTIMEZONE
TZID:Europe/Berlin
END:VTIMEZONE
BEGIN:VEVENT
UID:7db785deb1b433847d71f9e08447ccad
CATEGORIES:Breitensport, Wettkampfsport, Lehrgänge, Kata
CREATED:20260314T123128
SUMMARY:Judo-Sommerschule des 1.Judo-Club Nieder-Roden/Rodgau e.V.
LOCATION:Rodgau / Nieder-Roden
DESCRIPTION;ENCODING=QUOTED-PRINTABLE:\n\nPrivate Veranstaltung des&nbsp;1.Judo-Club Nieder-Roden/Rodgau e.V.\n\n
 \n&nbsp;\n\n\nWerte Judoka, Betreuer und Unterstützer.\n\n\nIn der letzten 
 Woche der hessischen Sommerferien 2026 findet die Judo-Sommerschule statt.\
 n\n\nAm&nbsp;02.08.2026, ab 15:00 Uhr, ist die Anreise für Zeltplatzbesuche
 r vorgesehen,\n\n\nab dem&nbsp;03.08.2026&nbsp;bis zum&nbsp;07.08.2026&nbsp
 ;schließen sich die Mattenzeiten an.\n\n\nDieses Jahr wird uns&nbsp;erneut&
 nbsp;Yoshihiko Iura&nbsp;(8.Dan Kodokan) die Ehre geben und uns vertiefende
  Aspekte zu verschiedenen Kata vermitteln.\n\n\nEbenfalls freuen wir uns wi
 eder auf 3 spannende Tage (4 Einheiten) mit&nbsp;Anna-Maria Wagner&nbsp;(5.
 Dan), 2-malige Weltmeisterin sowie Fahnenträgerin der Deutschen Olympia-Man
 nschaft 2024 in Paris. Den Schwerpunkt bilden Wettkampf-Techniken. Um genau
  zu sein: ihre Spezialtechnik(en).\n\n\nKomplettiert wird das Trainerteam d
 urch&nbsp;Ernst Zimmerer&nbsp;(4.Dan).\n\n\nWeitere Einzelheiten zur Verans
 taltung sowie der vorbehaltliche Zeitplan in der&nbsp;hier&nbsp;beigefügten
  Ausschreibung.\n\n\nWir wünschen allen Teilnehmenden (aktiven, Betreuern u
 nd Gästen) eine spannende und lehrreiche Woche.\n\n\nFür den Vorstand\n\n\n
 mit sportlichen Grüßen\n\n\nAxel Salecker\n\n\n(Vorsitzender 1.Judo-Club Ni
 eder-Roden/Rodgau e.V.)\n\n\n&nbsp;\n\n\nAusschreibung\n
CONTACT:Axel Salecker
DTSTAMP:20260425T124724Z
DTSTART;TZID=Europe/Berlin;VALUE=DATE:20260803
DTEND;TZID=Europe/Berlin;VALUE=DATE:20260808
SEQUENCE:0
TRANSP:OPAQUE
END:VEVENT
END:VCALENDAR