BEGIN:VCALENDAR
VERSION:2.0
PRODID:-//jEvents 2.0 for Joomla//EN
CALSCALE:GREGORIAN
METHOD:PUBLISH
BEGIN:VTIMEZONE
TZID:Europe/Berlin
END:VTIMEZONE
BEGIN:VEVENT
UID:e8de9a0de9558034dc2db65197c4dc36
CATEGORIES:Lehrgänge, Ausbildungswesen
CREATED:20240821T162702
SUMMARY:Junior Sportassistenten - Ausbildung
LOCATION:Am Weißen Berg\, 63549 Ronneburg\,
DESCRIPTION;ENCODING=QUOTED-PRINTABLE:<p><a href="https://doo.net/veranstaltung/168018/buchung">https://doo.net/v
 eranstaltung/168018/buchung</a></p>
CONTACT:Ervin Susnik
DTSTAMP:20260421T193623Z
DTSTART;TZID=Europe/Berlin;VALUE=DATE:20241014
DTEND;TZID=Europe/Berlin;VALUE=DATE:20241019
SEQUENCE:0
TRANSP:OPAQUE
END:VEVENT
END:VCALENDAR