BEGIN:VCALENDAR
VERSION:2.0
PRODID:-//jEvents 2.0 for Joomla//EN
CALSCALE:GREGORIAN
METHOD:PUBLISH
BEGIN:VTIMEZONE
TZID:Europe/Berlin
END:VTIMEZONE
BEGIN:VEVENT
UID:9271ab306f6c91956ab66c0123ac565e
CATEGORIES:Lehrgänge, Ausbildungswesen
CREATED:20240814T163046
SUMMARY:A-Level Fortbildung: Grundkampfkonzeption als Grundlage der Trainer C-Ausbildung
LOCATION:BudoArena Maintal\, Ascher Straße 62\, 63477 Maintal\, Deutschland
DESCRIPTION;ENCODING=QUOTED-PRINTABLE:&nbsp;
CONTACT:Ervin Susnik
DTSTAMP:20260421T162103Z
DTSTART;TZID=Europe/Berlin;VALUE=DATE:20240901
DTEND;TZID=Europe/Berlin;VALUE=DATE:20240902
SEQUENCE:0
TRANSP:OPAQUE
END:VEVENT
END:VCALENDAR