BEGIN:VCALENDAR
VERSION:2.0
PRODID:-//jEvents 2.0 for Joomla//EN
CALSCALE:GREGORIAN
METHOD:PUBLISH
BEGIN:VTIMEZONE
TZID:Europe/Berlin
BEGIN:STANDARD
DTSTART:20191027T020000
RDATE:20200329T030000
TZOFFSETFROM:+0200
TZOFFSETTO:+0100
TZNAME:Europe/Berlin CET
END:STANDARD
BEGIN:STANDARD
DTSTART:20201025T020000
RDATE:20210328T030000
TZOFFSETFROM:+0200
TZOFFSETTO:+0100
TZNAME:Europe/Berlin CET
END:STANDARD
BEGIN:STANDARD
DTSTART:20211031T020000
RDATE:20220327T030000
TZOFFSETFROM:+0200
TZOFFSETTO:+0100
TZNAME:Europe/Berlin CET
END:STANDARD
BEGIN:STANDARD
DTSTART:20221030T020000
RDATE:20230326T030000
TZOFFSETFROM:+0200
TZOFFSETTO:+0100
TZNAME:Europe/Berlin CET
END:STANDARD
BEGIN:DAYLIGHT
DTSTART:20190425T000000
RDATE:20191027T020000
TZOFFSETFROM:+0100
TZOFFSETTO:+0200
TZNAME:Europe/Berlin CEST
END:DAYLIGHT
BEGIN:DAYLIGHT
DTSTART:20200329T030000
RDATE:20201025T020000
TZOFFSETFROM:+0100
TZOFFSETTO:+0200
TZNAME:Europe/Berlin CEST
END:DAYLIGHT
BEGIN:DAYLIGHT
DTSTART:20210328T030000
RDATE:20211031T020000
TZOFFSETFROM:+0100
TZOFFSETTO:+0200
TZNAME:Europe/Berlin CEST
END:DAYLIGHT
BEGIN:DAYLIGHT
DTSTART:20220327T030000
RDATE:20221030T020000
TZOFFSETFROM:+0100
TZOFFSETTO:+0200
TZNAME:Europe/Berlin CEST
END:DAYLIGHT
END:VTIMEZONE
BEGIN:VEVENT
UID:98a2ea741e6e855f464888b1e1d6cac7
CATEGORIES:Lehrgänge
CREATED:20200223T090231
SUMMARY:ABGESAGT! Lehrgang mit Frank Wieneke
LOCATION:NN
DESCRIPTION;ENCODING=QUOTED-PRINTABLE:<p><span style="text-decoration: underline;"><strong>Themen</strong></span>
 :&nbsp;&nbsp;&nbsp;</p><p>Morote- und Ippon-seoi-nage (Kumi-kata, R:R- und 
 R:L-Systematik) <br />Sumi-gaeshi&nbsp; als&nbsp; Übergang&nbsp; Boden&nbsp
 ; –&nbsp; Stand&nbsp; bzw.&nbsp; Stand&nbsp; –&nbsp; Boden,&nbsp; Abgrenzun
 g <br />zwischen Stand- und Bodenkampf <br />Okuri-eri-jime als Wettkampfte
 chnik und Grundprinzipien im Bodenkampf <br /><span style="text-decoration:
  underline;"><strong>Im Anschluss</strong></span> an den Lehrgang (optional
 ): Boden- und Standrandori</p>
CONTACT:r Diese E-Mail-Adresse ist vor Spambots geschützt! Zur Anzeige muss JavaScript eingeschaltet sein!
				document.getElementById('cloak0daeefac10039cdbaff6b987b8ef8071').innerHTML = '';
				var prefix = '&#109;a' + 'i&#108;' + '&#116;o';
				var path = 'hr' + 'ef' + '=';
				var addy0daeefac10039cdbaff6b987b8ef8071 = 'j&#117;d&#111;' + '&#64;';
				addy0daeefac10039cdbaff6b987b8ef8071 = addy0daeefac10039cdbaff6b987b8ef8071 + 'ftv1860' + '&#46;' + 'd&#101;';
				var addy_text0daeefac10039cdbaff6b987b8ef8071 = 'j&#117;d&#111;' + '&#64;' + 'ftv1860' + '&#46;' + 'd&#101;';document.getElementById('cloak0daeefac10039cdbaff6b987b8ef8071').innerHTML += ''+addy_text0daeefac10039cdbaff6b987b8ef8071+'';
		 oder  telefonisch +49 179 9088520 (Christian Reul)
X-EXTRAINFO:Meldung per Email bis 12. April 2020.\nDie Teilnehmerzahl ist begrenzt. Es 
 entscheidet der Anmeldungseingang
DTSTAMP:20260424T065748Z
DTSTART;TZID=Europe/Berlin;VALUE=DATE:20200425
DTEND;TZID=Europe/Berlin;VALUE=DATE:20200426
SEQUENCE:0
TRANSP:OPAQUE
END:VEVENT
END:VCALENDAR