BEGIN:VCALENDAR
VERSION:2.0
PRODID:-//jEvents 2.0 for Joomla//EN
CALSCALE:GREGORIAN
METHOD:PUBLISH
BEGIN:VTIMEZONE
TZID:Europe/Berlin
BEGIN:STANDARD
DTSTART:20181115T000000
RDATE:20190331T030000
TZOFFSETFROM:+0200
TZOFFSETTO:+0100
TZNAME:Europe/Berlin CET
END:STANDARD
BEGIN:STANDARD
DTSTART:20191027T020000
RDATE:20200329T030000
TZOFFSETFROM:+0200
TZOFFSETTO:+0100
TZNAME:Europe/Berlin CET
END:STANDARD
BEGIN:STANDARD
DTSTART:20201025T020000
RDATE:20210328T030000
TZOFFSETFROM:+0200
TZOFFSETTO:+0100
TZNAME:Europe/Berlin CET
END:STANDARD
BEGIN:STANDARD
DTSTART:20211031T020000
RDATE:20220327T030000
TZOFFSETFROM:+0200
TZOFFSETTO:+0100
TZNAME:Europe/Berlin CET
END:STANDARD
BEGIN:STANDARD
DTSTART:20221030T020000
RDATE:20230326T030000
TZOFFSETFROM:+0200
TZOFFSETTO:+0100
TZNAME:Europe/Berlin CET
END:STANDARD
BEGIN:DAYLIGHT
DTSTART:20190331T030000
RDATE:20191027T020000
TZOFFSETFROM:+0100
TZOFFSETTO:+0200
TZNAME:Europe/Berlin CEST
END:DAYLIGHT
BEGIN:DAYLIGHT
DTSTART:20200329T030000
RDATE:20201025T020000
TZOFFSETFROM:+0100
TZOFFSETTO:+0200
TZNAME:Europe/Berlin CEST
END:DAYLIGHT
BEGIN:DAYLIGHT
DTSTART:20210328T030000
RDATE:20211031T020000
TZOFFSETFROM:+0100
TZOFFSETTO:+0200
TZNAME:Europe/Berlin CEST
END:DAYLIGHT
BEGIN:DAYLIGHT
DTSTART:20220327T030000
RDATE:20221030T020000
TZOFFSETFROM:+0100
TZOFFSETTO:+0200
TZNAME:Europe/Berlin CEST
END:DAYLIGHT
END:VTIMEZONE
BEGIN:VEVENT
UID:367a19d6df4a089d79788dd4768d99b1
CATEGORIES:Lehrgänge
CREATED:20191109T114931
SUMMARY:Judo-Lehrgang mit Sven Karpinski
LOCATION:Ravenstein-Zentrum\, Pfingstweidstraße  7\, 60316 Frankfurt am Main 
DESCRIPTION;ENCODING=QUOTED-PRINTABLE:<p><span style="text-decoration: underline;"><strong>Referent:</strong></sp
 an> Sven Karpinski – langjähriger Bundesliga-Kämpfer und -Trainer, <br />er
 folgreicher Wettkämpfer auf Bundesebene (zuletzt Deutscher <br />Meister Ü3
 0), seit vielen Jahren Lehrreferent im NWJV </p><p><span style="text-decora
 tion: underline;"><strong>Themen:</strong></span> Wettkampforientierte Übun
 gsformen, <br /> Wettkampftechniken im Stand und Boden, <br />Randori-Varia
 nten</p><p><span style="text-decoration: underline;"><strong>Teilnahmegebüh
 r:</strong></span> EUR 10,00 pro Judoka</p><p><span style="text-decoration:
  underline;"><strong>Anmeldung:</strong></span> Per E-Mail: <span id="cloak
 f2e96782cd99d0a9d062bf74d9c7fea0">Diese E-Mail-Adresse ist vor Spambots ges
 chützt! Zur Anzeige muss JavaScript eingeschaltet sein!</span><script type=
 'text/javascript'>
				document.getElementById('cloakf2e96782cd99d0a9d062bf
 74d9c7fea0').innerHTML = '';
				var prefix = '&#109;a' + 'i&#108;' + '&#11
 6;o';
				var path = 'hr' + 'ef' + '=';
				var addyf2e96782cd99d0a9d062bf7
 4d9c7fea0 = 'j&#117;d&#111;' + '&#64;';
				addyf2e96782cd99d0a9d062bf74d9c
 7fea0 = addyf2e96782cd99d0a9d062bf74d9c7fea0 + 'ftv1860' + '&#46;' + 'd&#10
 1;';
				var addy_textf2e96782cd99d0a9d062bf74d9c7fea0 = 'j&#117;d&#111;' +
  '&#64;' + 'ftv1860' + '&#46;' + 'd&#101;';document.getElementById('cloakf2
 e96782cd99d0a9d062bf74d9c7fea0').innerHTML += '<a ' + path + '\'' + prefix 
 + ':' + addyf2e96782cd99d0a9d062bf74d9c7fea0 + '\'>'+addy_textf2e96782cd99d
 0a9d062bf74d9c7fea0+'<\/a>';
		</script> oder telefonisch unter +49 179 908
 8520 (Christian Reul)</p><p>&nbsp;</p>
CONTACT:Diese E-Mail-Adresse ist vor Spambots geschützt! Zur Anzeige muss JavaScript eingeschaltet sein!
				document.getElementById('cloak4082391e016c147d2955862a21b28a73').innerHTML = '';
				var prefix = '&#109;a' + 'i&#108;' + '&#116;o';
				var path = 'hr' + 'ef' + '=';
				var addy4082391e016c147d2955862a21b28a73 = 'j&#117;d&#111;' + '&#64;';
				addy4082391e016c147d2955862a21b28a73 = addy4082391e016c147d2955862a21b28a73 + 'ftv1860' + '&#46;' + 'd&#101;';
				var addy_text4082391e016c147d2955862a21b28a73 = 'j&#117;d&#111;' + '&#64;' + 'ftv1860' + '&#46;' + 'd&#101;';document.getElementById('cloak4082391e016c147d2955862a21b28a73').innerHTML += ''+addy_text4082391e016c147d2955862a21b28a73+'';
		 oder telefonisch unter +49 179 9088520 (Christian Reul)
X-EXTRAINFO:Überweisung der Teilnahmegebühr erst nach Anmeldebestätigung \n      Aussch
 reibungslink: http://www.ftv1860.de/judo/lehrgang191116.pdf 
DTSTAMP:20260423T231121Z
DTSTART;TZID=Europe/Berlin;VALUE=DATE:20191116
DTEND;TZID=Europe/Berlin;VALUE=DATE:20191117
SEQUENCE:0
TRANSP:OPAQUE
END:VEVENT
END:VCALENDAR