BEGIN:VCALENDAR
VERSION:2.0
PRODID:-//jEvents 2.0 for Joomla//EN
CALSCALE:GREGORIAN
METHOD:PUBLISH
BEGIN:VTIMEZONE
TZID:Europe/Berlin
BEGIN:STANDARD
DTSTART:20181028T020000
RDATE:20190331T030000
TZOFFSETFROM:+0200
TZOFFSETTO:+0100
TZNAME:Europe/Berlin CET
END:STANDARD
BEGIN:STANDARD
DTSTART:20191027T020000
RDATE:20200329T030000
TZOFFSETFROM:+0200
TZOFFSETTO:+0100
TZNAME:Europe/Berlin CET
END:STANDARD
BEGIN:STANDARD
DTSTART:20201025T020000
RDATE:20210328T030000
TZOFFSETFROM:+0200
TZOFFSETTO:+0100
TZNAME:Europe/Berlin CET
END:STANDARD
BEGIN:STANDARD
DTSTART:20211031T020000
RDATE:20220327T030000
TZOFFSETFROM:+0200
TZOFFSETTO:+0100
TZNAME:Europe/Berlin CET
END:STANDARD
BEGIN:STANDARD
DTSTART:20221030T020000
RDATE:20230326T030000
TZOFFSETFROM:+0200
TZOFFSETTO:+0100
TZNAME:Europe/Berlin CET
END:STANDARD
BEGIN:DAYLIGHT
DTSTART:20180621T000000
RDATE:20181028T020000
TZOFFSETFROM:+0100
TZOFFSETTO:+0200
TZNAME:Europe/Berlin CEST
END:DAYLIGHT
BEGIN:DAYLIGHT
DTSTART:20190331T030000
RDATE:20191027T020000
TZOFFSETFROM:+0100
TZOFFSETTO:+0200
TZNAME:Europe/Berlin CEST
END:DAYLIGHT
BEGIN:DAYLIGHT
DTSTART:20200329T030000
RDATE:20201025T020000
TZOFFSETFROM:+0100
TZOFFSETTO:+0200
TZNAME:Europe/Berlin CEST
END:DAYLIGHT
BEGIN:DAYLIGHT
DTSTART:20210328T030000
RDATE:20211031T020000
TZOFFSETFROM:+0100
TZOFFSETTO:+0200
TZNAME:Europe/Berlin CEST
END:DAYLIGHT
BEGIN:DAYLIGHT
DTSTART:20220327T030000
RDATE:20221030T020000
TZOFFSETFROM:+0100
TZOFFSETTO:+0200
TZNAME:Europe/Berlin CEST
END:DAYLIGHT
END:VTIMEZONE
BEGIN:VEVENT
UID:ba5421f4406d5c1da3c1e78248435818
CATEGORIES:Lehrgänge, Ausbildungswesen
CREATED:20190217T123141
SUMMARY:Lehrgang zu Vorbereitung auf den 1. Kyu Teil II
LOCATION:Sporthalle der Silberbachschule\, Mainzer Allee 18\, 65232 Taunusstein
DESCRIPTION;ENCODING=QUOTED-PRINTABLE:\n\nLehrgang zu Vorbereitung auf den 1. Kyu Teil II in Taunusstein\n\n\n14°
 ° - 18°° Uhr\n
CONTACT:Anmeldung bis 07. Juni 2019 per Email an Diese E-Mail-Adresse ist vor Spambots geschützt! Zur Anzeige muss JavaScript eingeschaltet sein!
				document.getElementById('cloak362ec55e007b9395ff0ae0f4cd8019a2').innerHTML = '';
				var prefix = '&#109;a' + 'i&#108;' + '&#116;o';
				var path = 'hr' + 'ef' + '=';
				var addy362ec55e007b9395ff0ae0f4cd8019a2 = 'b&#105;rk' + '&#64;';
				addy362ec55e007b9395ff0ae0f4cd8019a2 = addy362ec55e007b9395ff0ae0f4cd8019a2 + 'h&#101;ss&#101;nj&#117;d&#111;' + '&#46;' + 'd&#101;';
				var addy_text362ec55e007b9395ff0ae0f4cd8019a2 = 'b&#105;rk' + '&#64;' + 'h&#101;ss&#101;nj&#117;d&#111;' + '&#46;' + 'd&#101;';document.getElementById('cloak362ec55e007b9395ff0ae0f4cd8019a2').innerHTML += ''+addy_text362ec55e007b9395ff0ae0f4cd8019a2+'';
		 (Bezirk Taunus), Diese E-Mail-Adresse ist vor Spambots geschützt! Zur Anzeige muss JavaScript eingeschaltet sein!
				document.getElementById('cloak982c8e00934a7fd240876b6c5a9f33ed').innerHTML = '';
				var prefix = '&#109;a' + 'i&#108;' + '&#116;o';
				var path = 'hr' + 'ef' + '=';
				var addy982c8e00934a7fd240876b6c5a9f33ed = 'm&#117;nsch' + '&#64;';
				addy982c8e00934a7fd240876b6c5a9f33ed = addy982c8e00934a7fd240876b6c5a9f33ed + 'h&#101;ss&#101;nj&#117;d&#111;' + '&#46;' + 'd&#101;';
				var addy_text982c8e00934a7fd240876b6c5a9f33ed = 'm&#117;nsch' + '&#64;' + 'h&#101;ss&#101;nj&#117;d&#111;' + '&#46;' + 'd&#101;';document.getElementById('cloak982c8e00934a7fd240876b6c5a9f33ed').innerHTML += ''+addy_text982c8e00934a7fd240876b6c5a9f33ed+'';
		 (Bezirk Wiesbaden) unt
X-EXTRAINFO:Meldung bis 7. Juni 2019\nZeit: 14 - 18 Uhr
DTSTAMP:20260424T093536Z
DTSTART;TZID=Europe/Berlin;VALUE=DATE:20190622
DTEND;TZID=Europe/Berlin;VALUE=DATE:20190623
SEQUENCE:0
TRANSP:OPAQUE
END:VEVENT
END:VCALENDAR